BEGIN:VCALENDAR
VERSION:2.0
PRODID:-//Deutscher Unterwasser-Club Hamburg e.V. - ECPv6.15.12.2//NONSGML v1.0//EN
CALSCALE:GREGORIAN
METHOD:PUBLISH
X-ORIGINAL-URL:https://www.duc-hamburg.de
X-WR-CALDESC:Veranstaltungen für Deutscher Unterwasser-Club Hamburg e.V.
REFRESH-INTERVAL;VALUE=DURATION:PT1H
X-Robots-Tag:noindex
X-PUBLISHED-TTL:PT1H
BEGIN:VTIMEZONE
TZID:Europe/Berlin
BEGIN:DAYLIGHT
TZOFFSETFROM:+0100
TZOFFSETTO:+0200
TZNAME:CEST
DTSTART:20250330T010000
END:DAYLIGHT
BEGIN:STANDARD
TZOFFSETFROM:+0200
TZOFFSETTO:+0100
TZNAME:CET
DTSTART:20251026T010000
END:STANDARD
BEGIN:DAYLIGHT
TZOFFSETFROM:+0100
TZOFFSETTO:+0200
TZNAME:CEST
DTSTART:20260329T010000
END:DAYLIGHT
BEGIN:STANDARD
TZOFFSETFROM:+0200
TZOFFSETTO:+0100
TZNAME:CET
DTSTART:20261025T010000
END:STANDARD
BEGIN:DAYLIGHT
TZOFFSETFROM:+0100
TZOFFSETTO:+0200
TZNAME:CEST
DTSTART:20270328T010000
END:DAYLIGHT
BEGIN:STANDARD
TZOFFSETFROM:+0200
TZOFFSETTO:+0100
TZNAME:CET
DTSTART:20271031T010000
END:STANDARD
END:VTIMEZONE
BEGIN:VEVENT
DTSTART;TZID=Europe/Berlin:20260425T113000
DTEND;TZID=Europe/Berlin:20260425T170000
DTSTAMP:20260423T155258
CREATED:20260412T122408Z
LAST-MODIFIED:20260412T122649Z
UID:5508-1777116600-1777136400@www.duc-hamburg.de
SUMMARY:DUC Antauchen 2026
DESCRIPTION:
URL:https://www.duc-hamburg.de/termine/duc-antauchen-2026/
LOCATION:DUC-Clubhütte\, Warwischer Hinterdeich 55\, Hamburg\, 21037\, Deutschland
ORGANIZER;CN="Heiko Horeis":MAILTO:Heiko.Horeis@gmx.de
END:VEVENT
BEGIN:VEVENT
DTSTART;TZID=Europe/Berlin:20260522T080000
DTEND;TZID=Europe/Berlin:20260526T170000
DTSTAMP:20260423T155258
CREATED:20260316T123229Z
LAST-MODIFIED:20260316T123655Z
UID:5471-1779436800-1779814800@www.duc-hamburg.de
SUMMARY:Pfingsten 2026 in Gammel Ålbo
DESCRIPTION:Freitag\, 22.05.2026 bis Montag\, 25.05.2026\nGl. Ålbo Camping\, Dänemark \nLiebe Vereinsmitglieder und Tauchfreunde des DUC\, \nin diesem Jahr plant der Verein zu Pfingsten wieder eine Tauchausfahrt nach Gammel Ålbo. Unser Standardplatz ist reserviert. Wir wollen wieder gemeinsam campen\, tauchen\, schnacken\, grillen und Schweinswale beobachten. „Gl. Ålbo Camping“ ist ein Campingplatz an der dänischen Ostseeküste in der Nähe der Städte Kolding auf Jütland und Middelfart an der Brücke zur Insel Fünen. Von Hamburg dauert die Autofahrt etwa 2\,5 Stunden (ca. 250 km). Der Campingplatz liegt am Kleinen Belt\, der kleineren Einströmung des Wassers aus der nördlichen in die südliche Ostsee. Er ist auf den Tauchbetrieb ausgelegt und hat eine gute Tauchinfrastruktur. Am Kleinen Belt erwartet euch eine abwechslungsreiche Unterwasserflora und -fauna. Auf https://gl-aalbo.dk/de/ findet ihr viele Informationen über den Platz. \nKosten: Die Kosten hängen davon ab\, wie lange ihr übernachten möchtet. Laut Preisliste können wir mit folgenden Kosten rechnen:\n \nVerpflegung: Selbstversorgung; abends wird i.d.R. gemeinsam gegrillt. Wir sprechen vorher ab\, wer einen Grill und Grillkohle mitbringt. Auf dem Campingplatz gibt es auch Grills und Herdplatten und einen Wasserkocher. Zum Essen und Beisammensein machen wir es uns unter den Pavillons des Vereins gemütlich. Bringt bitte einen Stuhl (und Tisch) mit. \nAnmeldung: Interessierte können sich bis zum 01.05.2026 ausschließlich per E-Mail an Marie Ohm\, marieohm1@gmail.com anmelden unter der Angabe von: \n• Vor- und Nachname\n• E-Mailadresse\n• Personenanzahl\n• Übernachtungsart: Zelt\, Wohnmobil/Wohnwagen/Bus\, PKW mit Zeltanbau\n• Anzahl der Übernachtungen\n• Interesse\, ein Boot einen Tag zu mieten (um weitere Tauchplätze zu erkunden) \nDie Anmeldungen werden in der Reihenfolge ihres Eingangs berücksichtigt. In der Regel finden 5 bis 6 Campingfahrzeuge und dieselbe Anzahl an Zelten Platz. \nWenn die maximale Anzahl an Teilnehmerinnen und Teilnehmern erreicht ist\, öffne ich die Warteliste. Anfang Mai schicke ich die verbindlichen Anmeldungen mit Namensliste an den Campingplatzbetreiber. Beachtet\, dass der Campingplatzbetreiber euch bei Nichtantritt Stornierungsgebühren in Rechnung stellt. Meldet euch bitte nur an\, wenn ihr bereit seid\, auch bei 16 Grad Celsius und Regen zu campen. \nDer DUC Hamburg e.V. ist nur Vermittler der Leistungen und tritt nicht als Reiseveranstalter auf und ist daher auch nicht Vertragspartner der Teilnehmenden. Er übernimmt keinerlei Haftung. Die Aufgabe des DUC Hamburg e.V. besteht ausschließlich in der Bündelung der Interessen der Teilnehmenden und Weitergabe der Informationen an die Basis. Ich freue mich auf ein schönes Pfingstwochenende mit euch! \nMarie \nAusschreibung: https://www.duc-hamburg.de/wp-content/uploads/2026/03/Ausschreibung-DUC-Gl-Aalbo-2026-2_260316_131156.pdf
URL:https://www.duc-hamburg.de/termine/pfingsten-2026-in-gammel-albo/
LOCATION:Gammel Albo\, Dänemark
ATTACH;FMTTYPE=image/jpeg:https://www.duc-hamburg.de/wp-content/uploads/2026/03/Zwischenablage_03-16-2026_02.jpg
END:VEVENT
BEGIN:VEVENT
DTSTART;TZID=Europe/Berlin:20260530T103000
DTEND;TZID=Europe/Berlin:20260531T170000
DTSTAMP:20260423T155258
CREATED:20250525T112720Z
LAST-MODIFIED:20250525T112720Z
UID:5232-1780137000-1780246800@www.duc-hamburg.de
SUMMARY:AK "Orientierung beim Tauchen"
DESCRIPTION:Weitere Informationen findet ihr in der Ausschreibung.
URL:https://www.duc-hamburg.de/termine/ak-orientierung-beim-tauchen-2/
LOCATION:DUC-Clubhütte\, Warwischer Hinterdeich 55\, Hamburg\, 21037\, Deutschland
CATEGORIES:Aufbaukurs,Ausbildung
ORGANIZER;CN="Heiko Horeis":MAILTO:Heiko.Horeis@gmx.de
END:VEVENT
BEGIN:VEVENT
DTSTART;TZID=Europe/Berlin:20260606T090000
DTEND;TZID=Europe/Berlin:20260607T160000
DTSTAMP:20260423T155258
CREATED:20251204T171106Z
LAST-MODIFIED:20251204T171421Z
UID:5383-1780736400-1780848000@www.duc-hamburg.de
SUMMARY:SK "Tauchen für den Naturschutz"
DESCRIPTION:Hiermit lade ich ein zum Umwelt-SK „Tauchen für den Naturschutz“. \nWesentlicher Inhalt ist das Bestimmen von Unterwasserpflanzen sowie die Bewertung der Gewässerqualität anhand der vorgefundenen Pflanzen. \nWeitere Informationen zum Kurs findet ihr in der Ausschreibung \nAnmeldung ab sofort willkommen an kt.tegge@duc-hamburg.de \nkt/ 4.12.2025
URL:https://www.duc-hamburg.de/termine/sk-tauchen-fuer-den-naturschutz/
LOCATION:DUC-Clubhütte\, Warwischer Hinterdeich 55\, Hamburg\, 21037\, Deutschland
ATTACH;FMTTYPE=image/jpeg:https://www.duc-hamburg.de/wp-content/uploads/2025/12/009.jpg
END:VEVENT
BEGIN:VEVENT
DTSTART;VALUE=DATE:20261003
DTEND;VALUE=DATE:20261011
DTSTAMP:20260423T155258
CREATED:20251214T201751Z
LAST-MODIFIED:20251214T201855Z
UID:5410-1790985600-1791676799@www.duc-hamburg.de
SUMMARY:Tauchreise nach Gozo
DESCRIPTION:Informationen\, Bilder sowie die Ausschreibung befinden sich hier.
URL:https://www.duc-hamburg.de/termine/tauchreise-nach-gozo/
LOCATION:Marsalforn\, Gozo/Malta\, Marsalforn\, Malta
END:VEVENT
END:VCALENDAR